BEGIN:VCALENDAR
VERSION:2.0
PRODID:-//Les Piranhas de Châteauroux - ECPv6.5.0//NONSGML v1.0//EN
CALSCALE:GREGORIAN
METHOD:PUBLISH
X-WR-CALNAME:Les Piranhas de Châteauroux
X-ORIGINAL-URL:https://www.piranhaschateauroux.fr
X-WR-CALDESC:évènements pour Les Piranhas de Châteauroux
REFRESH-INTERVAL;VALUE=DURATION:PT1H
X-Robots-Tag:noindex
X-PUBLISHED-TTL:PT1H
BEGIN:VTIMEZONE
TZID:Europe/Paris
BEGIN:DAYLIGHT
TZOFFSETFROM:+0100
TZOFFSETTO:+0200
TZNAME:CEST
DTSTART:20240331T010000
END:DAYLIGHT
BEGIN:STANDARD
TZOFFSETFROM:+0200
TZOFFSETTO:+0100
TZNAME:CET
DTSTART:20241027T010000
END:STANDARD
END:VTIMEZONE
BEGIN:VEVENT
DTSTART;VALUE=DATE:20240914
DTEND;VALUE=DATE:20240915
DTSTAMP:20260421T120715
CREATED:20240813T112858Z
LAST-MODIFIED:20240902T144751Z
UID:4096-1726272000-1726358399@www.piranhaschateauroux.fr
SUMMARY:Portes ouvertes : les 25 ans des Piranhas de Châteauroux !
DESCRIPTION:
URL:https://www.piranhaschateauroux.fr/evt/portes-ouvertes-les-25-ans-des-piranhas-de-chateauroux/
LOCATION:Gymnase Jablonsky\, 26 rue BRAILLE\, Châteauroux\, 36000\, France
ORGANIZER;CN="Les Piranhas de Ch%C3%A2teauroux":MAILTO:contact@piranhaschateauroux.fr
END:VEVENT
END:VCALENDAR